Workbook
Name PercentatgeCreixementSemestral: 'Evolucio capacitats'!$B$10
Name PercentatgePujaAnual: 'Evolucio preus'!$B$10
Name PercentatgePujaInicial: 'Evolucio preus'!$B$9
Name Preudisc: 'Evolucio preus'!$E$38
Name PreuDiscPowerOnO: 'Anexo nº 2'!$D$41
Name PreudiscStandByO: 'Anexo nº 2'!$D$34
Name PreuramPowerOn: 'Evolucio preus'!$D$39
Name PreuramPowerOnO: 'Anexo nº 2'!$D$40
Name PreuramStandBy: 'Evolucio preus'!$D$38
Name PreuramStandByO: 'Anexo nº 2'!$D$33
Name PreuvcpuPowerOn: 'Evolucio preus'!$C$39
Name PreuvcpuPowerOnO: 'Anexo nº 2'!$D$39
Name PreuvcpuStandby: 'Evolucio preus'!$C$38
Name PreuvcpuStandbyO: 'Anexo nº 2'!$D$32

Sheet Evolucio capacitats
A1: CAPACITATS ACTUALS (202508) i CAPACITATS A INICI SEGUENT CONTRACTE
A3: CAPACITATS | B3: Equips | C3: vcpu | D3: RAM | E3: Disc (GB)
A4: Actual
A5: StandBy | B5: 70 | C5: 298 | D5: 646 | E5: 38460
A6: PowerOn | B6: 1 | C6: 2 | D6: 4 | E6: 40
A7: Total | B7: =SUM(B5:B6) -> 71 | C7: =SUM(C5:C6) -> 300 | D7: =SUM(D5:D6) -> 650 | E7: =SUM(E5:E6) -> 38500
A10: % d'increment vegetatiu semestral (s'aplica a inici de semestre) | B10: 0.05
A11: (Creixement anual contracte anterior del 9%)
A14: A 01/01/2026
A15: StandBy | B15: =ROUND(B5+(B5*PercentatgeCreixementSemestral),2) -> 73.5 | C15: =ROUND(C5+(C5*PercentatgeCreixementSemestral),2) -> 312.9 | D15: =ROUND(D5+(D5*PercentatgeCreixementSemestral),2) -> 678.3 | E15: =ROUND(E5+(E5*PercentatgeCreixementSemestral),2) -> 40383
A16: PowerOn | B16: =ROUND(B6+(B6*PercentatgeCreixementSemestral),2) -> 1.05 | C16: =ROUND(C6+(C6*PercentatgeCreixementSemestral),2) -> 2.1 | D16: =ROUND(D6+(D6*PercentatgeCreixementSemestral),2) -> 4.2 | E16: =ROUND(E6+(E6*PercentatgeCreixementSemestral),2) -> 42
A18: A 01/07/2026
A19: StandBy | B19: =ROUND(B15+(B15*PercentatgeCreixementSemestral),2) -> 77.18 | C19: =ROUND(C15+(C15*PercentatgeCreixementSemestral),2) -> 328.55 | D19: =ROUND(D15+(D15*PercentatgeCreixementSemestral),2) -> 712.22 | E19: =ROUND(E15+(E15*PercentatgeCreixementSemestral),2) -> 42402.15
A20: PowerOn | B20: =ROUND(B16+(B16*PercentatgeCreixementSemestral),2) -> 1.1 | C20: =ROUND(C16+(C16*PercentatgeCreixementSemestral),2) -> 2.21 | D20: =ROUND(D16+(D16*PercentatgeCreixementSemestral),2) -> 4.41 | E20: =ROUND(E16+(E16*PercentatgeCreixementSemestral),2) -> 44.1
A22: A 01/01/2027
A23: StandBy | B23: =ROUND(B19+(B19*PercentatgeCreixementSemestral),2) -> 81.04 | C23: =ROUND(C19+(C19*PercentatgeCreixementSemestral),2) -> 344.98 | D23: =ROUND(D19+(D19*PercentatgeCreixementSemestral),2) -> 747.83 | E23: =ROUND(E19+(E19*PercentatgeCreixementSemestral),2) -> 44522.26
A24: PowerOn | B24: =ROUND(B20+(B20*PercentatgeCreixementSemestral),2) -> 1.16 | C24: =ROUND(C20+(C20*PercentatgeCreixementSemestral),2) -> 2.32 | D24: =ROUND(D20+(D20*PercentatgeCreixementSemestral),2) -> 4.63 | E24: =ROUND(E20+(E20*PercentatgeCreixementSemestral),2) -> 46.31
A26: A 01/07/2027
A27: StandBy | B27: =ROUND(B23+(B23*PercentatgeCreixementSemestral),2) -> 85.09 | C27: =ROUND(C23+(C23*PercentatgeCreixementSemestral),2) -> 362.23 | D27: =ROUND(D23+(D23*PercentatgeCreixementSemestral),2) -> 785.22 | E27: =ROUND(E23+(E23*PercentatgeCreixementSemestral),2) -> 46748.37
A28: PowerOn | B28: =ROUND(B24+(B24*PercentatgeCreixementSemestral),2) -> 1.22 | C28: =ROUND(C24+(C24*PercentatgeCreixementSemestral),2) -> 2.44 | D28: =ROUND(D24+(D24*PercentatgeCreixementSemestral),2) -> 4.86 | E28: =ROUND(E24+(E24*PercentatgeCreixementSemestral),2) -> 48.63
A30: A 01/01/2028
A31: StandBy | B31: =ROUND(B27+(B27*PercentatgeCreixementSemestral),2) -> 89.34 | C31: =ROUND(C27+(C27*PercentatgeCreixementSemestral),2) -> 380.34 | D31: =ROUND(D27+(D27*PercentatgeCreixementSemestral),2) -> 824.48 | E31: =ROUND(E27+(E27*PercentatgeCreixementSemestral),2) -> 49085.79
A32: PowerOn | B32: =ROUND(B28+(B28*PercentatgeCreixementSemestral),2) -> 1.28 | C32: =ROUND(C28+(C28*PercentatgeCreixementSemestral),2) -> 2.56 | D32: =ROUND(D28+(D28*PercentatgeCreixementSemestral),2) -> 5.1 | E32: =ROUND(E28+(E28*PercentatgeCreixementSemestral),2) -> 51.06
A34: A 01/07/2028
A35: StandBy | B35: =ROUND(B31+(B31*PercentatgeCreixementSemestral),2) -> 93.81 | C35: =ROUND(C31+(C31*PercentatgeCreixementSemestral),2) -> 399.36 | D35: =ROUND(D31+(D31*PercentatgeCreixementSemestral),2) -> 865.7 | E35: =ROUND(E31+(E31*PercentatgeCreixementSemestral),2) -> 51540.08
A36: PowerOn | B36: =ROUND(B32+(B32*PercentatgeCreixementSemestral),2) -> 1.34 | C36: =ROUND(C32+(C32*PercentatgeCreixementSemestral),2) -> 2.69 | D36: =ROUND(D32+(D32*PercentatgeCreixementSemestral),2) -> 5.36 | E36: =ROUND(E32+(E32*PercentatgeCreixementSemestral),2) -> 53.61
A38: A 01/01/2029
A39: StandBy | B39: =ROUND(B35+(B35*PercentatgeCreixementSemestral),2) -> 98.5 | C39: =ROUND(C35+(C35*PercentatgeCreixementSemestral),2) -> 419.33 | D39: =ROUND(D35+(D35*PercentatgeCreixementSemestral),2) -> 908.99 | E39: =ROUND(E35+(E35*PercentatgeCreixementSemestral),2) -> 54117.08
A40: PowerOn | B40: =ROUND(B36+(B36*PercentatgeCreixementSemestral),2) -> 1.41 | C40: =ROUND(C36+(C36*PercentatgeCreixementSemestral),2) -> 2.82 | D40: =ROUND(D36+(D36*PercentatgeCreixementSemestral),2) -> 5.63 | E40: =ROUND(E36+(E36*PercentatgeCreixementSemestral),2) -> 56.29
A42: A 01/07/2029
A43: StandBy | B43: =ROUND(B39+(B39*PercentatgeCreixementSemestral),2) -> 103.43 | C43: =ROUND(C39+(C39*PercentatgeCreixementSemestral),2) -> 440.3 | D43: =ROUND(D39+(D39*PercentatgeCreixementSemestral),2) -> 954.44 | E43: =ROUND(E39+(E39*PercentatgeCreixementSemestral),2) -> 56822.93
A44: PowerOn | B44: =ROUND(B40+(B40*PercentatgeCreixementSemestral),2) -> 1.48 | C44: =ROUND(C40+(C40*PercentatgeCreixementSemestral),2) -> 2.96 | D44: =ROUND(D40+(D40*PercentatgeCreixementSemestral),2) -> 5.91 | E44: =ROUND(E40+(E40*PercentatgeCreixementSemestral),2) -> 59.1
A46: A 01/01/2030
A47: StandBy | B47: =ROUND(B43+(B43*PercentatgeCreixementSemestral),2) -> 108.6 | C47: =ROUND(C43+(C43*PercentatgeCreixementSemestral),2) -> 462.32 | D47: =ROUND(D43+(D43*PercentatgeCreixementSemestral),2) -> 1002.16 | E47: =ROUND(E43+(E43*PercentatgeCreixementSemestral),2) -> 59664.08
A48: PowerOn | B48: =ROUND(B44+(B44*PercentatgeCreixementSemestral),2) -> 1.55 | C48: =ROUND(C44+(C44*PercentatgeCreixementSemestral),2) -> 3.11 | D48: =ROUND(D44+(D44*PercentatgeCreixementSemestral),2) -> 6.21 | E48: =ROUND(E44+(E44*PercentatgeCreixementSemestral),2) -> 62.06
A50: A 01/07/2030
A51: StandBy | B51: =ROUND(B47+(B47*PercentatgeCreixementSemestral),2) -> 114.03 | C51: =ROUND(C47+(C47*PercentatgeCreixementSemestral),2) -> 485.44 | D51: =ROUND(D47+(D47*PercentatgeCreixementSemestral),2) -> 1052.27 | E51: =ROUND(E47+(E47*PercentatgeCreixementSemestral),2) -> 62647.28
A52: PowerOn | B52: =ROUND(B48+(B48*PercentatgeCreixementSemestral),2) -> 1.63 | C52: =ROUND(C48+(C48*PercentatgeCreixementSemestral),2) -> 3.27 | D52: =ROUND(D48+(D48*PercentatgeCreixementSemestral),2) -> 6.52 | E52: =ROUND(E48+(E48*PercentatgeCreixementSemestral),2) -> 65.16
A54: A 01/01/2031
A55: StandBy | B55: =ROUND(B51+(B51*PercentatgeCreixementSemestral),2) -> 119.73 | C55: =ROUND(C51+(C51*PercentatgeCreixementSemestral),2) -> 509.71 | D55: =ROUND(D51+(D51*PercentatgeCreixementSemestral),2) -> 1104.88 | E55: =ROUND(E51+(E51*PercentatgeCreixementSemestral),2) -> 65779.64
...

Sheet Evolucio preus
A1: PREUS ACTUALS (202509) i FUTURS
A3: PREUS | C3: vcpu | D3: RAM | E3: Disc (GB)
A4: Actual
A5: Preu unitari StandBy | C5: 7.75 | D5: 2.74 | E5: 0.022
A6: Preu unitari PowerOn | C6: 18.5 | D6: 7.3 | E6: 0.022
A9: Assumim una pujada de preus a principi de contracte degut a increment de costos dels ultims 5 anys (%): | B9: 0.2
A10: Assumim una pujada de preus anual a partir de 2on any (%): | B10: 0.03
A12: 1er any contracte (fins 31/12/2026)
A13: Preu unitari StandBy | C13: =ROUND(C5+(C5*PercentatgePujaInicial),4) -> 9.3 | D13: =ROUND(D5+(D5*PercentatgePujaInicial),4) -> 3.288 | E13: =ROUND(E5+(E5*PercentatgePujaInicial),4) -> 0.0264
A14: Preu unitari PowerOn | C14: =ROUND(C6+(C6*PercentatgePujaInicial),4) -> 22.2 | D14: =ROUND(D6+(D6*PercentatgePujaInicial),4) -> 8.76 | E14: =ROUND(E6+(E6*PercentatgePujaInicial),4) -> 0.0264
A17: 2on any contracte (fins 31/12/2027)
A18: Preu unitari StandBy | C18: =ROUND(C13+(C13*PercentatgePujaAnual),4) -> 9.579 | D18: =ROUND(D13+(D13*PercentatgePujaAnual),4) -> 3.3866 | E18: =ROUND(E13+(E13*PercentatgePujaAnual),4) -> 0.0272
A19: Preu unitari PowerOn | C19: =ROUND(C14+(C14*PercentatgePujaAnual),4) -> 22.866 | D19: =ROUND(D14+(D14*PercentatgePujaAnual),4) -> 9.0228 | E19: =ROUND(E14+(E14*PercentatgePujaAnual),4) -> 0.0272
A22: 3er any contracte (fins 31/12/2028)
A23: Preu unitari StandBy | C23: =ROUND(C18+(C18*PercentatgePujaAnual),4) -> 9.8664 | D23: =ROUND(D18+(D18*PercentatgePujaAnual),4) -> 3.4882 | E23: =ROUND(E18+(E18*PercentatgePujaAnual),4) -> 0.028
A24: Preu unitari PowerOn | C24: =ROUND(C19+(C19*PercentatgePujaAnual),4) -> 23.552 | D24: =ROUND(D19+(D19*PercentatgePujaAnual),4) -> 9.2935 | E24: =ROUND(E19+(E19*PercentatgePujaAnual),4) -> 0.028
A27: 4art any contracte (fins 31/12/2029)
A28: Preu unitari StandBy | C28: =ROUND(C23+(C23*PercentatgePujaAnual),4) -> 10.1624 | D28: =ROUND(D23+(D23*PercentatgePujaAnual),4) -> 3.5928 | E28: =ROUND(E23+(E23*PercentatgePujaAnual),4) -> 0.0288
A29: Preu unitari PowerOn | C29: =ROUND(C24+(C24*PercentatgePujaAnual),4) -> 24.2586 | D29: =ROUND(D24+(D24*PercentatgePujaAnual),4) -> 9.5723 | E29: =ROUND(E24+(E24*PercentatgePujaAnual),4) -> 0.0288
A32: 5è any contracte (fins 31/12/2030)
A33: Preu unitari StandBy | C33: =ROUND(C28+(C28*PercentatgePujaAnual),4) -> 10.4673 | D33: =ROUND(D28+(D28*PercentatgePujaAnual),4) -> 3.7006 | E33: =ROUND(E28+(E28*PercentatgePujaAnual),4) -> 0.0297
A34: Preu unitari PowerOn | C34: =ROUND(C29+(C29*PercentatgePujaAnual),4) -> 24.9864 | D34: =ROUND(D29+(D29*PercentatgePujaAnual),4) -> 9.8595 | E34: =ROUND(E29+(E29*PercentatgePujaAnual),4) -> 0.0297
A37: Preu mitjà dels 5 anys (preus de sortida)
A38: Preu unitari StandBy | C38: =ROUND(AVERAGE(C13,C18,C23,C28,C33),4) -> 9.875 | D38: =ROUND(AVERAGE(D13,D18,D23,D28,D33),4) -> 3.4912 | E38: =ROUND(AVERAGE(E13,E18,E23,E28,E33),4) -> 0.028
A39: Preu unitari PowerOn | C39: =ROUND(AVERAGE(C14,C19,C24,C29,C34),4) -> 23.5726 | D39: =ROUND(AVERAGE(D14,D19,D24,D29,D34),4) -> 9.3016 | E39: =ROUND(AVERAGE(E14,E19,E24,E29,E34),4) -> 0.028

Sheet Calculs
B2: ANEXO Nº 2 -MODELO DE PROPOSICIÓN ECONÓMICA (SOBRE C)
B4: Don/Doña
B5: con domicilio en
B6: con NIF número
B12: la empresa
B13: con NIF/CIF
B14: con domicilio social en
B15: calle
B16: nº
B17: código postal
B18: teléfono
B30: Oferta económica mensual en modo réplica (IVA excluido):
B31: Elemento | C31: Precio máximo unitario | D31: Precio unitario ofertado
B32: Vcpu | C32: 9.875
B33: RAM | C33: 3.4912
B34: GB disco | C34: 0.028
B37: Oferta económica mensual en modo contingencia (IVA excluido):
B38: Elemento | C38: Precio máximo unitario | D38: Precio unitario ofertado
B39: Vcpu | C39: 23.5726
B40: RAM | C40: 9.3016
B41: GB disco | C41: 0.028
A46: 3) Escenari intermig
C47: PB (36 mesos): | D47: =SUM(D56:D69) -> 0
C48: Modif.previstes | D48: =D47*0.2 -> 0
C49: VE (60 mesos + MP): | D49: =SUM(D56:D70)+D48 -> 0
B51: Amb creixement vegetatiu de capacitats anual
B52: Activacio del DR el 2on mes del 3er any, durant 3 mesos
B54: 1er año
B55: Precio mensual | C55: Meses | D55: Total
B56: =('Evolucio capacitats'!C15*PreuvcpuStandbyO)+('Evolucio capacitats'!D15*PreuramStandByO)+('Evolucio capacitats'!E15*PreudiscStandByO)+('Evolucio capacitats'!C16*PreuvcpuPowerOnO)+('Evolucio capacitats'!D16*PreuramPowerOnO)+('Evolucio capacitats'!E16*PreuDiscPowerOnO) -> 0 | C56: 6 | D56: =B56*C56 -> 0
B57: =('Evolucio capacitats'!C19*PreuvcpuStandbyO)+('Evolucio capacitats'!D19*PreuramStandByO)+('Evolucio capacitats'!E19*PreudiscStandByO)+('Evolucio capacitats'!C20*PreuvcpuPowerOnO)+('Evolucio capacitats'!D20*PreuramPowerOnO)+('Evolucio capacitats'!E20*PreuDiscPowerOnO) -> 0 | C57: 6 | D57: =B57*C57 -> 0
B59: 2o año
B60: Precio mensual | C60: Meses | D60: Total
B61: =('Evolucio capacitats'!C23*PreuvcpuStandbyO)+('Evolucio capacitats'!D23*PreuramStandByO)+('Evolucio capacitats'!E23*PreudiscStandByO)+('Evolucio capacitats'!C24*PreuvcpuPowerOnO)+('Evolucio capacitats'!D24*PreuramPowerOnO)+('Evolucio capacitats'!E24*PreuDiscPowerOnO) -> 0 | C61: 6 | D61: =B61*C61 -> 0
B62: =('Evolucio capacitats'!C27*PreuvcpuStandbyO)+('Evolucio capacitats'!D27*PreuramStandByO)+('Evolucio capacitats'!E27*PreudiscStandByO)+('Evolucio capacitats'!C28*PreuvcpuPowerOnO)+('Evolucio capacitats'!D28*PreuramPowerOnO)+('Evolucio capacitats'!E28*PreuDiscPowerOnO) -> 0 | C62: 6 | D62: =B62*C62 -> 0
B64: 3er año
B65: Precio mensual | C65: Meses | D65: Total
B66: =('Evolucio capacitats'!C31*PreuvcpuStandbyO)+('Evolucio capacitats'!D31*PreuramStandByO)+('Evolucio capacitats'!E31*PreudiscStandByO)+('Evolucio capacitats'!C32*PreuvcpuPowerOnO)+('Evolucio capacitats'!D32*PreuramPowerOnO)+('Evolucio capacitats'!E32*PreuDiscPowerOnO) -> 0 | C66: 1 | D66: =B66*C66 -> 0
B67: =('Evolucio capacitats'!C31*PreuvcpuPowerOnO)+('Evolucio capacitats'!D31*PreuramPowerOnO)+('Evolucio capacitats'!E31*PreuDiscPowerOnO)+('Evolucio capacitats'!C32*PreuvcpuPowerOnO)+('Evolucio capacitats'!D32*PreuramPowerOnO)+('Evolucio capacitats'!E32*PreuDiscPowerOnO) -> 0 | C67: 3 | D67: =B67*C67 -> 0
B68: =('Evolucio capacitats'!C31*PreuvcpuStandbyO)+('Evolucio capacitats'!D31*PreuramStandByO)+('Evolucio capacitats'!E31*PreudiscStandByO)+('Evolucio capacitats'!C32*PreuvcpuPowerOnO)+('Evolucio capacitats'!D32*PreuramPowerOnO)+('Evolucio capacitats'!E32*PreuDiscPowerOnO) -> 0 | C68: 2 | D68: =B68*C68 -> 0
...

Sheet Anexo nº 2
B2: ANEXO Nº 2 -MODELO DE PROPOSICIÓN ECONÓMICA (SOBRE C)
B4: Don/Doña
B5: con domicilio en
B6: con NIF número
B12: la empresa
B13: con NIF/CIF
B14: con domicilio social en
B15: calle
B16: nº
B17: código postal
B18: teléfono
B30: Oferta económica mensual en modo réplica (IVA excluido):
B31: Elemento | C31: Precio máximo unitario | D31: Precio unitario ofertado
B32: Vcpu | C32: 9.875
B33: RAM | C33: 3.4912
B34: GB disco | C34: 0.028
B37: Oferta económica mensual en modo contingencia (IVA excluido):
B38: Elemento | C38: Precio máximo unitario | D38: Precio unitario ofertado
B39: Vcpu | C39: 23.5726
B40: RAM | C40: 9.3016
B41: GB disco | C41: 0.028
C43: Importe total ofertado para la duración inicial del contrato (36 meses): | D43: =Calculs!D47 -> 0
B46: En la ciudad de
B47: a fecha
B49: Firmado D./Dª
C50: Firma electrónica (representante del licitador)
